Package: methyLImp2 Version: 1.2.0 Command: /Library/Frameworks/R.framework/Resources/bin/R CMD build --keep-empty-dirs --no-resave-data methyLImp2 StartedAt: 2024-11-08 18:04:30 -0500 (Fri, 08 Nov 2024) EndedAt: 2024-11-08 18:04:52 -0500 (Fri, 08 Nov 2024) EllapsedTime: 22.2 seconds RetCode: 0 Status: OK PackageFile: methyLImp2_1.2.0.tar.gz PackageFileSize: 1.261 MiB