Package: methyLImp2 Version: 1.2.0 Command: /Library/Frameworks/R.framework/Resources/bin/R CMD build --keep-empty-dirs --no-resave-data methyLImp2 StartedAt: 2025-02-04 03:11:44 -0500 (Tue, 04 Feb 2025) EndedAt: 2025-02-04 03:13:02 -0500 (Tue, 04 Feb 2025) EllapsedTime: 78.4 seconds RetCode: 0 Status: OK PackageFile: methyLImp2_1.2.0.tar.gz PackageFileSize: 1.261 MiB