Package: methrix Version: 1.22.1 Command: rm -rf methrix.buildbin-libdir && mkdir methrix.buildbin-libdir && E:\biocbuild\bbs-3.21-bioc\R\bin\R.exe CMD INSTALL --build --library=methrix.buildbin-libdir methrix_1.22.1.tar.gz StartedAt: 2025-08-15 09:40:34 -0400 (Fri, 15 Aug 2025) EndedAt: 2025-08-15 09:41:35 -0400 (Fri, 15 Aug 2025) EllapsedTime: 61.5 seconds RetCode: 0 Status: OK PackageFile: methrix_1.22.1.zip PackageFileSize: 3.154 MiB