Package: methodical Version: 1.2.0 Command: /home/biocbuild/R/R/bin/R CMD build --keep-empty-dirs --no-resave-data methodical StartedAt: 2025-01-31 00:47:02 -0000 (Fri, 31 Jan 2025) EndedAt: 2025-01-31 00:49:52 -0000 (Fri, 31 Jan 2025) EllapsedTime: 169.1 seconds RetCode: 1 Status: ERROR PackageFile: None PackageFileSize: NA