Package: methodical Version: 1.2.0 Command: rm -rf methodical.buildbin-libdir && mkdir methodical.buildbin-libdir && /Users/biocbuild/BBS/utils/build-universal.sh methodical_1.2.0.tar.gz /Library/Frameworks/R.framework/Resources/bin/R methodical.buildbin-libdir StartedAt: 2025-01-24 15:25:16 -0500 (Fri, 24 Jan 2025) EndedAt: 2025-01-24 15:26:25 -0500 (Fri, 24 Jan 2025) EllapsedTime: 68.9 seconds RetCode: 0 Status: OK PackageFile: methodical_1.2.0.tgz PackageFileSize: 4.531 MiB