Package: methodical Version: 1.4.0 Command: /Library/Frameworks/R.framework/Resources/bin/R CMD build --keep-empty-dirs --no-resave-data methodical StartedAt: 2025-04-21 17:24:54 -0400 (Mon, 21 Apr 2025) EndedAt: 2025-04-21 17:43:52 -0400 (Mon, 21 Apr 2025) EllapsedTime: 1137.9 seconds RetCode: 0 Status: OK PackageFile: methodical_1.4.0.tar.gz PackageFileSize: 4.368 MiB