Package: methodical Version: 1.2.0 Command: /Library/Frameworks/R.framework/Resources/bin/R CMD INSTALL methodical StartedAt: 2025-01-30 18:09:15 -0500 (Thu, 30 Jan 2025) EndedAt: 2025-01-30 18:10:02 -0500 (Thu, 30 Jan 2025) EllapsedTime: 47.4 seconds RetCode: 0 Status: OK