Package: methodical Version: 1.2.0 Command: /Library/Frameworks/R.framework/Resources/bin/R CMD check --install=check:methodical.install-out.txt --library=/Library/Frameworks/R.framework/Resources/library --no-vignettes --timings methodical_1.2.0.tar.gz StartedAt: 2025-02-01 00:34:39 -0500 (Sat, 01 Feb 2025) EndedAt: 2025-02-01 00:47:05 -0500 (Sat, 01 Feb 2025) EllapsedTime: 745.9 seconds RetCode: 0 Status: WARNINGS CheckDir: methodical.Rcheck Warnings: 1