Package: methodical Version: 1.4.0 Command: /Library/Frameworks/R.framework/Resources/bin/R CMD build --keep-empty-dirs --no-resave-data methodical StartedAt: 2025-05-02 03:23:28 -0400 (Fri, 02 May 2025) EndedAt: 2025-05-02 03:40:52 -0400 (Fri, 02 May 2025) EllapsedTime: 1044.1 seconds RetCode: 0 Status: OK PackageFile: methodical_1.4.0.tar.gz PackageFileSize: 4.369 MiB