Package: methimpute Version: 1.28.0 Command: /home/biocbuild/R/R/bin/R CMD check --install=check:methimpute.install-out.txt --library=/home/biocbuild/R/R/site-library --no-vignettes --timings methimpute_1.28.0.tar.gz StartedAt: 2025-01-31 07:55:08 -0000 (Fri, 31 Jan 2025) EndedAt: 2025-01-31 07:57:55 -0000 (Fri, 31 Jan 2025) EllapsedTime: 167.2 seconds RetCode: 0 Status: WARNINGS CheckDir: methimpute.Rcheck Warnings: 1