Package: methInheritSim Version: 1.30.0 Command: /home/biocbuild/R/R/bin/R CMD check --install=check:methInheritSim.install-out.txt --library=/home/biocbuild/R/R/site-library --no-vignettes --timings methInheritSim_1.30.0.tar.gz StartedAt: 2025-05-20 10:25:47 -0000 (Tue, 20 May 2025) EndedAt: 2025-05-20 10:32:38 -0000 (Tue, 20 May 2025) EllapsedTime: 411.4 seconds RetCode: 0 Status: OK CheckDir: methInheritSim.Rcheck Warnings: 0