Package: methInheritSim Version: 1.30.0 Command: /home/biocbuild/R/R/bin/R CMD build --keep-empty-dirs --no-resave-data methInheritSim StartedAt: 2025-05-20 02:04:28 -0000 (Tue, 20 May 2025) EndedAt: 2025-05-20 02:06:02 -0000 (Tue, 20 May 2025) EllapsedTime: 94.0 seconds RetCode: 0 Status: OK PackageFile: methInheritSim_1.30.0.tar.gz PackageFileSize: 1.141 MiB