Package: methInheritSim Version: 1.28.0 Command: /Library/Frameworks/R.framework/Resources/bin/R CMD INSTALL methInheritSim StartedAt: 2025-01-30 17:23:29 -0500 (Thu, 30 Jan 2025) EndedAt: 2025-01-30 17:24:13 -0500 (Thu, 30 Jan 2025) EllapsedTime: 43.8 seconds RetCode: 0 Status: OK