Package: methInheritSim Version: 1.28.0 Command: /Library/Frameworks/R.framework/Resources/bin/R CMD build --keep-empty-dirs --no-resave-data methInheritSim StartedAt: 2025-01-31 02:52:56 -0500 (Fri, 31 Jan 2025) EndedAt: 2025-01-31 02:54:14 -0500 (Fri, 31 Jan 2025) EllapsedTime: 77.8 seconds RetCode: 0 Status: OK PackageFile: methInheritSim_1.28.0.tar.gz PackageFileSize: 1.117 MiB