Package: metaseqR2 Version: 1.18.0 Command: /home/biocbuild/R/R/bin/R CMD INSTALL metaseqR2 StartedAt: 2025-01-30 21:07:16 -0000 (Thu, 30 Jan 2025) EndedAt: 2025-01-30 21:08:49 -0000 (Thu, 30 Jan 2025) EllapsedTime: 93.1 seconds RetCode: 0 Status: OK