Package: metapone Version: 1.14.0 Command: /Library/Frameworks/R.framework/Resources/bin/R CMD build --keep-empty-dirs --no-resave-data metapone StartedAt: 2025-04-21 17:24:28 -0400 (Mon, 21 Apr 2025) EndedAt: 2025-04-21 17:41:54 -0400 (Mon, 21 Apr 2025) EllapsedTime: 1046.5 seconds RetCode: 0 Status: OK PackageFile: metapone_1.14.0.tar.gz PackageFileSize: 3.743 MiB