Package: metapone Version: 1.14.0 Command: /Library/Frameworks/R.framework/Resources/bin/R CMD INSTALL metapone StartedAt: 2025-04-21 15:05:15 -0400 (Mon, 21 Apr 2025) EndedAt: 2025-04-21 15:05:22 -0400 (Mon, 21 Apr 2025) EllapsedTime: 7.2 seconds RetCode: 0 Status: OK