Package: metapone Version: 1.14.0 Command: /Library/Frameworks/R.framework/Resources/bin/R CMD INSTALL metapone StartedAt: 2025-05-08 15:23:30 -0400 (Thu, 08 May 2025) EndedAt: 2025-05-08 15:23:47 -0400 (Thu, 08 May 2025) EllapsedTime: 17.5 seconds RetCode: 0 Status: OK