Package: metahdep Version: 1.66.0 Command: E:\biocbuild\bbs-3.21-bioc\R\bin\R.exe CMD INSTALL metahdep StartedAt: 2025-08-14 15:18:41 -0400 (Thu, 14 Aug 2025) EndedAt: 2025-08-14 15:18:51 -0400 (Thu, 14 Aug 2025) EllapsedTime: 10.0 seconds RetCode: 1 Status: ERROR