Package: metagene2 Version: 1.24.0 Maintainer: Eric Fournier MaintainerEmail: ericfournier2 at yahoo.ca git_url: https://git.bioconductor.org/packages/metagene2 git_branch: RELEASE_3_21 git_last_commit: 1f6ea54 git_last_commit_date: 2025-04-15 11:44:22 -0400 (Tue, 15 Apr 2025)