Package: metabomxtr Version: 1.42.0 Command: /Library/Frameworks/R.framework/Resources/bin/R CMD check --install=check:metabomxtr.install-out.txt --library=/Library/Frameworks/R.framework/Resources/library --no-vignettes --timings metabomxtr_1.42.0.tar.gz StartedAt: 2025-04-21 21:44:43 -0400 (Mon, 21 Apr 2025) EndedAt: 2025-04-21 21:46:15 -0400 (Mon, 21 Apr 2025) EllapsedTime: 92.0 seconds RetCode: 0 Status: OK CheckDir: metabomxtr.Rcheck Warnings: 0