Package: metabolomicsWorkbenchR Version: 1.18.0 Maintainer: Gavin Rhys Lloyd MaintainerEmail: g.r.lloyd at bham.ac.uk git_url: https://git.bioconductor.org/packages/metabolomicsWorkbenchR git_branch: RELEASE_3_21 git_last_commit: 31c7bb2 git_last_commit_date: 2025-04-15 12:07:38 -0400 (Tue, 15 Apr 2025)