Package: metabinR Version: 1.10.0 Command: /home/biocbuild/R/R/bin/R CMD build --keep-empty-dirs --no-resave-data metabinR StartedAt: 2025-05-09 02:03:44 -0000 (Fri, 09 May 2025) EndedAt: 2025-05-09 02:04:34 -0000 (Fri, 09 May 2025) EllapsedTime: 50.0 seconds RetCode: 0 Status: OK PackageFile: metabinR_1.10.0.tar.gz PackageFileSize: 4.399 MiB