Package: metabinR Version: 1.10.0 Maintainer: Anestis Gkanogiannis MaintainerEmail: anestis at gkanogiannis.com git_url: https://git.bioconductor.org/packages/metabinR git_branch: RELEASE_3_21 git_last_commit: f3a7794 git_last_commit_date: 2025-04-15 12:59:43 -0400 (Tue, 15 Apr 2025)