Package: metabCombiner Version: 1.16.0 Command: /home/biocbuild/bbs-3.20-bioc/R/bin/R CMD INSTALL metabCombiner StartedAt: 2024-11-19 16:53:10 -0500 (Tue, 19 Nov 2024) EndedAt: 2024-11-19 16:53:23 -0500 (Tue, 19 Nov 2024) EllapsedTime: 12.4 seconds RetCode: 0 Status: OK