Package: metabCombiner Version: 1.16.0 Command: /home/biocbuild/R/R/bin/R CMD INSTALL metabCombiner StartedAt: 2025-02-03 21:12:44 -0000 (Mon, 03 Feb 2025) EndedAt: 2025-02-03 21:13:05 -0000 (Mon, 03 Feb 2025) EllapsedTime: 20.8 seconds RetCode: 0 Status: OK