Package: metabCombiner Version: 1.16.0 Command: /home/biocbuild/R/R/bin/R CMD check --install=check:metabCombiner.install-out.txt --library=/home/biocbuild/R/R/site-library --no-vignettes --timings metabCombiner_1.16.0.tar.gz StartedAt: 2025-02-11 07:49:57 -0000 (Tue, 11 Feb 2025) EndedAt: 2025-02-11 07:52:31 -0000 (Tue, 11 Feb 2025) EllapsedTime: 154.2 seconds RetCode: 0 Status: OK CheckDir: metabCombiner.Rcheck Warnings: 0