Package: metabCombiner Version: 1.16.0 Command: /home/biocbuild/R/R/bin/R CMD build --keep-empty-dirs --no-resave-data metabCombiner StartedAt: 2025-02-11 00:35:17 -0000 (Tue, 11 Feb 2025) EndedAt: 2025-02-11 00:35:57 -0000 (Tue, 11 Feb 2025) EllapsedTime: 40.0 seconds RetCode: 0 Status: OK PackageFile: metabCombiner_1.16.0.tar.gz PackageFileSize: 2.535 MiB