Package: metabCombiner Version: 1.16.0 Command: /Library/Frameworks/R.framework/Resources/bin/R CMD build --keep-empty-dirs --no-resave-data metabCombiner StartedAt: 2025-02-10 20:07:41 -0500 (Mon, 10 Feb 2025) EndedAt: 2025-02-10 20:08:59 -0500 (Mon, 10 Feb 2025) EllapsedTime: 78.2 seconds RetCode: 0 Status: OK PackageFile: metabCombiner_1.16.0.tar.gz PackageFileSize: 2.552 MiB