Package: metabCombiner Version: 1.18.0 Command: /Library/Frameworks/R.framework/Resources/bin/R CMD INSTALL metabCombiner StartedAt: 2025-04-21 15:06:27 -0400 (Mon, 21 Apr 2025) EndedAt: 2025-04-21 15:06:34 -0400 (Mon, 21 Apr 2025) EllapsedTime: 6.6 seconds RetCode: 0 Status: OK