Package: metabCombiner Version: 1.18.0 Command: /Library/Frameworks/R.framework/Resources/bin/R CMD build --keep-empty-dirs --no-resave-data metabCombiner StartedAt: 2025-04-21 16:51:32 -0400 (Mon, 21 Apr 2025) EndedAt: 2025-04-21 16:51:46 -0400 (Mon, 21 Apr 2025) EllapsedTime: 14.2 seconds RetCode: 0 Status: OK PackageFile: metabCombiner_1.18.0.tar.gz PackageFileSize: 2.552 MiB