Package: metabCombiner Version: 1.18.0 Command: /Library/Frameworks/R.framework/Resources/bin/R CMD check --install=check:metabCombiner.install-out.txt --library=/Library/Frameworks/R.framework/Resources/library --no-vignettes --timings metabCombiner_1.18.0.tar.gz StartedAt: 2025-04-26 02:12:51 -0400 (Sat, 26 Apr 2025) EndedAt: 2025-04-26 02:15:20 -0400 (Sat, 26 Apr 2025) EllapsedTime: 148.7 seconds RetCode: 0 Status: OK CheckDir: metabCombiner.Rcheck Warnings: 0