Package: metabCombiner Version: 1.18.0 Command: /Library/Frameworks/R.framework/Resources/bin/R CMD build --keep-empty-dirs --no-resave-data metabCombiner StartedAt: 2025-04-25 04:40:56 -0400 (Fri, 25 Apr 2025) EndedAt: 2025-04-25 04:41:34 -0400 (Fri, 25 Apr 2025) EllapsedTime: 37.8 seconds RetCode: 0 Status: OK PackageFile: metabCombiner_1.18.0.tar.gz PackageFileSize: 2.552 MiB