Package: metabCombiner Version: 1.18.0 Command: rm -rf metabCombiner.buildbin-libdir && mkdir metabCombiner.buildbin-libdir && /Users/biocbuild/BBS/utils/build-universal.sh metabCombiner_1.18.0.tar.gz /Library/Frameworks/R.framework/Resources/bin/R metabCombiner.buildbin-libdir StartedAt: 2025-04-26 17:57:11 -0400 (Sat, 26 Apr 2025) EndedAt: 2025-04-26 17:57:33 -0400 (Sat, 26 Apr 2025) EllapsedTime: 22.3 seconds RetCode: 1 Status: ERROR PackageFile: None PackageFileSize: NA