Package: metaMS Version: 1.42.0 Command: /home/biocbuild/bbs-3.20-bioc/R/bin/R CMD check --install=check:metaMS.install-out.txt --library=/home/biocbuild/bbs-3.20-bioc/R/site-library --timings metaMS_1.42.0.tar.gz StartedAt: 2024-11-20 05:27:11 -0500 (Wed, 20 Nov 2024) EndedAt: 2024-11-20 05:32:27 -0500 (Wed, 20 Nov 2024) EllapsedTime: 315.6 seconds RetCode: 0 Status: OK CheckDir: metaMS.Rcheck Warnings: 0