Package: metaMS Version: 1.44.0 Command: /Library/Frameworks/R.framework/Resources/bin/R CMD build --keep-empty-dirs --no-resave-data metaMS StartedAt: 2025-05-09 03:15:21 -0400 (Fri, 09 May 2025) EndedAt: 2025-05-09 03:15:22 -0400 (Fri, 09 May 2025) EllapsedTime: 1.2 seconds RetCode: 1 Status: ERROR PackageFile: None PackageFileSize: NA