Package: meshr Version: 2.16.0 Command: /home/biocbuild/R/R/bin/R CMD INSTALL meshr StartedAt: 2025-11-17 21:38:38 -0000 (Mon, 17 Nov 2025) EndedAt: 2025-11-17 21:39:06 -0000 (Mon, 17 Nov 2025) EllapsedTime: 28.0 seconds RetCode: 0 Status: OK