Package: meshr Version: 2.16.0 Command: /home/biocbuild/R/R/bin/R CMD build --keep-empty-dirs --no-resave-data meshr StartedAt: 2025-11-18 02:55:33 -0000 (Tue, 18 Nov 2025) EndedAt: 2025-11-18 02:56:04 -0000 (Tue, 18 Nov 2025) EllapsedTime: 31.0 seconds RetCode: 0 Status: OK PackageFile: meshr_2.16.0.tar.gz PackageFileSize: 1.002 MiB