Package: meshes Version: 1.32.0 Command: /home/biocbuild/R/R/bin/R CMD check --install=check:meshes.install-out.txt --library=/home/biocbuild/R/R/site-library --no-vignettes --timings meshes_1.32.0.tar.gz StartedAt: 2025-01-31 07:51:20 -0000 (Fri, 31 Jan 2025) EndedAt: 2025-01-31 07:54:36 -0000 (Fri, 31 Jan 2025) EllapsedTime: 196.3 seconds RetCode: 0 Status: OK CheckDir: meshes.Rcheck Warnings: 0