Package: meshes Version: 1.34.0 Command: chmod a+r meshes -R && E:\biocbuild\bbs-3.21-bioc\R\bin\R.exe CMD build --keep-empty-dirs --no-resave-data meshes StartedAt: 2025-08-14 20:14:49 -0400 (Thu, 14 Aug 2025) EndedAt: 2025-08-14 20:15:27 -0400 (Thu, 14 Aug 2025) EllapsedTime: 38.2 seconds RetCode: 0 Status: OK PackageFile: meshes_1.34.0.tar.gz PackageFileSize: 922.1 KiB