Package: mdp Version: 1.26.0 Command: /Library/Frameworks/R.framework/Resources/bin/R CMD check --install=check:mdp.install-out.txt --library=/Library/Frameworks/R.framework/Resources/library --no-vignettes --timings mdp_1.26.0.tar.gz StartedAt: 2025-01-31 06:03:30 -0500 (Fri, 31 Jan 2025) EndedAt: 2025-01-31 06:05:52 -0500 (Fri, 31 Jan 2025) EllapsedTime: 142.4 seconds RetCode: 0 Status: OK CheckDir: mdp.Rcheck Warnings: 0