Package: matter Version: 2.8.0 Command: /Library/Frameworks/R.framework/Resources/bin/R CMD INSTALL matter StartedAt: 2025-01-02 15:56:51 -0500 (Thu, 02 Jan 2025) EndedAt: 2025-01-02 15:57:35 -0500 (Thu, 02 Jan 2025) EllapsedTime: 43.6 seconds RetCode: 0 Status: OK