Package: maser Version: 1.24.0 Command: rm -rf maser.buildbin-libdir && mkdir maser.buildbin-libdir && /Users/biocbuild/BBS/utils/build-universal.sh maser_1.24.0.tar.gz /Library/Frameworks/R.framework/Resources/bin/R maser.buildbin-libdir StartedAt: 2025-01-03 13:51:11 -0500 (Fri, 03 Jan 2025) EndedAt: 2025-01-03 13:54:17 -0500 (Fri, 03 Jan 2025) EllapsedTime: 185.6 seconds RetCode: 0 Status: OK PackageFile: maser_1.24.0.tgz PackageFileSize: 3.977 MiB