Package: martini Version: 1.28.0 Command: /home/biocbuild/bbs-3.21-bioc/R/bin/R CMD build --keep-empty-dirs --no-resave-data martini StartedAt: 2025-10-01 18:22:25 -0400 (Wed, 01 Oct 2025) EndedAt: 2025-10-01 18:22:49 -0400 (Wed, 01 Oct 2025) EllapsedTime: 24.0 seconds RetCode: 0 Status: OK PackageFile: martini_1.28.0.tar.gz PackageFileSize: 2.994 MiB