Package: martini Version: 1.28.0 Command: rm -rf martini.buildbin-libdir && mkdir martini.buildbin-libdir && /Users/biocbuild/BBS/utils/build-universal.sh martini_1.28.0.tar.gz /Library/Frameworks/R.framework/Resources/bin/R martini.buildbin-libdir StartedAt: 2025-04-21 22:40:42 -0400 (Mon, 21 Apr 2025) EndedAt: 2025-04-21 22:40:51 -0400 (Mon, 21 Apr 2025) EllapsedTime: 9.2 seconds RetCode: 0 Status: OK PackageFile: martini_1.28.0.tgz PackageFileSize: 699.4 KiB