Package: marray Version: 1.86.0 Maintainer: Yee Hwa (Jean) Yang MaintainerEmail: jean at biostat.ucsf.edu git_url: https://git.bioconductor.org/packages/marray git_branch: RELEASE_3_21 git_last_commit: 9f16723 git_last_commit_date: 2025-04-15 09:34:26 -0400 (Tue, 15 Apr 2025)