Package: marr Version: 1.16.0 Command: rm -rf marr.buildbin-libdir && mkdir marr.buildbin-libdir && F:\biocbuild\bbs-3.20-bioc\R\bin\R.exe CMD INSTALL --build --library=marr.buildbin-libdir marr_1.16.0.tar.gz StartedAt: 2025-01-31 08:58:38 -0500 (Fri, 31 Jan 2025) EndedAt: 2025-01-31 08:59:25 -0500 (Fri, 31 Jan 2025) EllapsedTime: 46.9 seconds RetCode: 0 Status: OK PackageFile: marr_1.16.0.zip PackageFileSize: 1.088 MiB