Package: marr Version: 1.18.0 Command: /Library/Frameworks/R.framework/Resources/bin/R CMD check --install=check:marr.install-out.txt --library=/Library/Frameworks/R.framework/Resources/library --no-vignettes --timings marr_1.18.0.tar.gz StartedAt: 2025-04-21 21:38:27 -0400 (Mon, 21 Apr 2025) EndedAt: 2025-04-21 21:42:22 -0400 (Mon, 21 Apr 2025) EllapsedTime: 234.5 seconds RetCode: 0 Status: OK CheckDir: marr.Rcheck Warnings: 0