Package: marr Version: 1.18.0 Command: /Library/Frameworks/R.framework/Resources/bin/R CMD build --keep-empty-dirs --no-resave-data marr StartedAt: 2025-04-21 17:20:40 -0400 (Mon, 21 Apr 2025) EndedAt: 2025-04-21 17:21:34 -0400 (Mon, 21 Apr 2025) EllapsedTime: 53.7 seconds RetCode: 0 Status: OK PackageFile: marr_1.18.0.tar.gz PackageFileSize: 591 KiB