Package: markeR Version: 1.0.0 Command: /home/biocbuild/bbs-3.22-bioc/R/bin/R CMD INSTALL markeR StartedAt: 2025-11-09 15:14:27 -0500 (Sun, 09 Nov 2025) EndedAt: 2025-11-09 15:14:45 -0500 (Sun, 09 Nov 2025) EllapsedTime: 18.1 seconds RetCode: 0 Status: OK